BEGIN:VCALENDAR
VERSION:2.0
PRODID:-//Clausewitz - Erinnerungsst&auml;tte Burg - ECPv6.15.20//NONSGML v1.0//EN
CALSCALE:GREGORIAN
METHOD:PUBLISH
X-WR-CALNAME:Clausewitz - Erinnerungsst&auml;tte Burg
X-ORIGINAL-URL:https://clausewitz-erinnerungsstaette-burg.de
X-WR-CALDESC:Veranstaltungen für Clausewitz - Erinnerungsst&auml;tte Burg
REFRESH-INTERVAL;VALUE=DURATION:PT1H
X-Robots-Tag:noindex
X-PUBLISHED-TTL:PT1H
BEGIN:VTIMEZONE
TZID:UTC
BEGIN:STANDARD
TZOFFSETFROM:+0000
TZOFFSETTO:+0000
TZNAME:UTC
DTSTART:20240101T000000
END:STANDARD
END:VTIMEZONE
BEGIN:VEVENT
DTSTART;TZID=UTC:20250520T180000
DTEND;TZID=UTC:20250520T193000
DTSTAMP:20260423T115708
CREATED:20250308T093907Z
LAST-MODIFIED:20251021T194420Z
UID:636-1747764000-1747769400@clausewitz-erinnerungsstaette-burg.de
SUMMARY:Vortrag von Harald Bossert zum Thema Wallrawe
DESCRIPTION:Der Vortrag findet in der Clausewitz-Erinnerungsstätte statt.
URL:https://clausewitz-erinnerungsstaette-burg.de/event/vortrag-von-harald-bossert-zum-thema-wallrawe/
END:VEVENT
BEGIN:VEVENT
DTSTART;TZID=UTC:20250510T100000
DTEND;TZID=UTC:20250510T120000
DTSTAMP:20260423T115708
CREATED:20250126T103047Z
LAST-MODIFIED:20250126T103047Z
UID:614-1746871200-1746878400@clausewitz-erinnerungsstaette-burg.de
SUMMARY:Öffnungszeit der Erinnerungsstätte
DESCRIPTION:
URL:https://clausewitz-erinnerungsstaette-burg.de/event/oeffnungszeit-der-erinnerungsstaette-6/
END:VEVENT
BEGIN:VEVENT
DTSTART;TZID=UTC:20250506T180000
DTEND;TZID=UTC:20250506T200000
DTSTAMP:20260423T115708
CREATED:20250126T102957Z
LAST-MODIFIED:20250126T102957Z
UID:612-1746554400-1746561600@clausewitz-erinnerungsstaette-burg.de
SUMMARY:Vortrag: Clausewitz-Gedenken in Burg - es werden Getränke und Imbiss angeboten
DESCRIPTION:
URL:https://clausewitz-erinnerungsstaette-burg.de/event/vortrag-clausewitz-gedenken-in-burg-es-werden-getraenke-und-imbiss-angeboten/
END:VEVENT
BEGIN:VEVENT
DTSTART;TZID=UTC:20250426T100000
DTEND;TZID=UTC:20250426T120000
DTSTAMP:20260423T115708
CREATED:20250126T102809Z
LAST-MODIFIED:20250126T102809Z
UID:610-1745661600-1745668800@clausewitz-erinnerungsstaette-burg.de
SUMMARY:Öffnungszeit der Erinnerungsstätte
DESCRIPTION:
URL:https://clausewitz-erinnerungsstaette-burg.de/event/oeffnungszeit-der-erinnerungsstaette-5/
END:VEVENT
END:VCALENDAR